BEGIN:VCALENDAR
VERSION:2.0
PRODID:-//Fundación Fernando Rielo - ECPv6.15.20//NONSGML v1.0//EN
CALSCALE:GREGORIAN
METHOD:PUBLISH
X-WR-CALNAME:Fundación Fernando Rielo
X-ORIGINAL-URL:https://rielo.org
X-WR-CALDESC:Eventos para Fundación Fernando Rielo
REFRESH-INTERVAL;VALUE=DURATION:PT1H
X-Robots-Tag:noindex
X-PUBLISHED-TTL:PT1H
BEGIN:VTIMEZONE
TZID:Europe/Madrid
BEGIN:DAYLIGHT
TZOFFSETFROM:+0100
TZOFFSETTO:+0200
TZNAME:CEST
DTSTART:20250330T010000
END:DAYLIGHT
BEGIN:STANDARD
TZOFFSETFROM:+0200
TZOFFSETTO:+0100
TZNAME:CET
DTSTART:20251026T010000
END:STANDARD
BEGIN:DAYLIGHT
TZOFFSETFROM:+0100
TZOFFSETTO:+0200
TZNAME:CEST
DTSTART:20260329T010000
END:DAYLIGHT
BEGIN:STANDARD
TZOFFSETFROM:+0200
TZOFFSETTO:+0100
TZNAME:CET
DTSTART:20261025T010000
END:STANDARD
BEGIN:DAYLIGHT
TZOFFSETFROM:+0100
TZOFFSETTO:+0200
TZNAME:CEST
DTSTART:20270328T010000
END:DAYLIGHT
BEGIN:STANDARD
TZOFFSETFROM:+0200
TZOFFSETTO:+0100
TZNAME:CET
DTSTART:20271031T010000
END:STANDARD
END:VTIMEZONE
BEGIN:VEVENT
DTSTART;TZID=Europe/Madrid:20260423T190000
DTEND;TZID=Europe/Madrid:20260423T210000
DTSTAMP:20260423T030922
CREATED:20260409T194057Z
LAST-MODIFIED:20260409T194135Z
UID:221494-1776970800-1776978000@rielo.org
SUMMARY:📚 Presentación de libro - O Felix Culpa! Itinerario lírico de Jesús Resucitado
DESCRIPTION:📚 Presentación de libro\nTe invitamos a la presentación:\n“O Felix Culpa! Itinerario lírico de Jesús Resucitado” \n✍️ Autor: Antonio Bocanegra\n🎤 Presenta: Juana Sánchez-Gey Venegas \n📅 Jueves\, 23 de abril de 2026\n🕖 19:00 h\n📍 Sede de la Fundación Fernando Rielo\n(C/ Hermosilla\, 5 – 3º · Madrid) \n🎟 Entrada libre hasta completar aforo\nOrganiza: Fundación Fernando Rielo (rielo.org)
URL:https://rielo.org/event/presentacion-de-libro-o-felix-culpa-itinerario-lirico-de-jesus-resucitado/
LOCATION:Fundación Fernando Rielo\, C. de Hermosilla 5\, 3°\, Madrid\, España\, 28001
ATTACH;FMTTYPE=image/jpeg:https://rielo.org/wp-content/uploads/2026/04/WhatsApp-Image-2026-04-09-at-10.37.17.jpeg
END:VEVENT
END:VCALENDAR