BEGIN:VCALENDAR
VERSION:2.0
PRODID:-//Fundación Fernando Rielo - ECPv6.15.20//NONSGML v1.0//EN
CALSCALE:GREGORIAN
METHOD:PUBLISH
X-ORIGINAL-URL:https://rielo.org
X-WR-CALDESC:Eventos para Fundación Fernando Rielo
REFRESH-INTERVAL;VALUE=DURATION:PT1H
X-Robots-Tag:noindex
X-PUBLISHED-TTL:PT1H
BEGIN:VTIMEZONE
TZID:Europe/Madrid
BEGIN:DAYLIGHT
TZOFFSETFROM:+0100
TZOFFSETTO:+0200
TZNAME:CEST
DTSTART:20240331T010000
END:DAYLIGHT
BEGIN:STANDARD
TZOFFSETFROM:+0200
TZOFFSETTO:+0100
TZNAME:CET
DTSTART:20241027T010000
END:STANDARD
BEGIN:DAYLIGHT
TZOFFSETFROM:+0100
TZOFFSETTO:+0200
TZNAME:CEST
DTSTART:20250330T010000
END:DAYLIGHT
BEGIN:STANDARD
TZOFFSETFROM:+0200
TZOFFSETTO:+0100
TZNAME:CET
DTSTART:20251026T010000
END:STANDARD
BEGIN:DAYLIGHT
TZOFFSETFROM:+0100
TZOFFSETTO:+0200
TZNAME:CEST
DTSTART:20260329T010000
END:DAYLIGHT
BEGIN:STANDARD
TZOFFSETFROM:+0200
TZOFFSETTO:+0100
TZNAME:CET
DTSTART:20261025T010000
END:STANDARD
END:VTIMEZONE
BEGIN:VEVENT
DTSTART;TZID=Europe/Madrid:20250628T190000
DTEND;TZID=Europe/Madrid:20250628T210000
DTSTAMP:20260426T024701
CREATED:20250620T063122Z
LAST-MODIFIED:20250626T044415Z
UID:220798-1751137200-1751144400@rielo.org
SUMMARY:Concierto del Coro Cantarela – Ad Una Fresca Riva
DESCRIPTION:🎶 Concierto del Coro Cantarela – Ad Una Fresca Riva\n📍 Lugar: Convento de San Antonio de La Cabrera (Madrid)\n🏛 Organiza: Asociación de Amigos del Convento de San Antonio (Misioneros Identes)\n📅 Fecha: Sábado\, 28 de junio de 2025\n🕖 Hora: 19:00\n🎟 Entrada libre\n \n🎼 Programa:\nPiezas de la polifonía sacra medieval y renacentista \n👤 Director: Pablo Andoni Olabarria \n🤝 Con la colaboración de:\nFundación Fernando Rielo\nMSPC
URL:https://rielo.org/event/concierto-del-coro-cantarela-ad-una-fresca-riva/
LOCATION:Convento de San Antonio de La Cabrera\, Carretera de Madrid a Burgos\, La Cabrera\, 28750\, Spain
CATEGORIES:Música
ATTACH;FMTTYPE=image/jpeg:https://rielo.org/wp-content/uploads/2025/06/WhatsApp-Image-2025-06-21-at-18.17.11.jpeg
END:VEVENT
END:VCALENDAR