BEGIN:VCALENDAR
VERSION:2.0
PRODID:-//Fundación Fernando Rielo - ECPv6.15.20//NONSGML v1.0//EN
CALSCALE:GREGORIAN
METHOD:PUBLISH
X-WR-CALNAME:Fundación Fernando Rielo
X-ORIGINAL-URL:https://rielo.org
X-WR-CALDESC:Eventos para Fundación Fernando Rielo
REFRESH-INTERVAL;VALUE=DURATION:PT1H
X-Robots-Tag:noindex
X-PUBLISHED-TTL:PT1H
BEGIN:VTIMEZONE
TZID:Europe/Madrid
BEGIN:DAYLIGHT
TZOFFSETFROM:+0100
TZOFFSETTO:+0200
TZNAME:CEST
DTSTART:20240331T010000
END:DAYLIGHT
BEGIN:STANDARD
TZOFFSETFROM:+0200
TZOFFSETTO:+0100
TZNAME:CET
DTSTART:20241027T010000
END:STANDARD
BEGIN:DAYLIGHT
TZOFFSETFROM:+0100
TZOFFSETTO:+0200
TZNAME:CEST
DTSTART:20250330T010000
END:DAYLIGHT
BEGIN:STANDARD
TZOFFSETFROM:+0200
TZOFFSETTO:+0100
TZNAME:CET
DTSTART:20251026T010000
END:STANDARD
BEGIN:DAYLIGHT
TZOFFSETFROM:+0100
TZOFFSETTO:+0200
TZNAME:CEST
DTSTART:20260329T010000
END:DAYLIGHT
BEGIN:STANDARD
TZOFFSETFROM:+0200
TZOFFSETTO:+0100
TZNAME:CET
DTSTART:20261025T010000
END:STANDARD
END:VTIMEZONE
BEGIN:VEVENT
DTSTART;TZID=Europe/Madrid:20251111T201500
DTEND;TZID=Europe/Madrid:20251111T213000
DTSTAMP:20260425T043123
CREATED:20251109T093852Z
LAST-MODIFIED:20251109T093852Z
UID:220946-1762892100-1762896600@rielo.org
SUMMARY:En búsqueda de lo inefable\, en el poemario Tríptico
DESCRIPTION:La poeta Izara Batres\, profesora de Literatura en la Universidad Camilo José Cela y ganadora del XXI Premio Mundial Fernando Rielo de Poesía Mística\, presentará su obra Tríptico en una nueva sesión del Aula de Cultura. \nFecha y hora\n📅 Martes\, 11 de noviembre\n🕗 20:15 h \nLugar\n📍 Salón de Actos – Parroquia San Miguel de los Santos\nCalle López de Hoyos\, 39 – Madrid
URL:https://rielo.org/event/en-busqueda-de-lo-inefable-en-el-poemario-triptico/
LOCATION:Parroquia San Miguel de los Santos\, c/ López de Hoyos\, 39\, Madrid\, 28002
CATEGORIES:Poesía
ATTACH;FMTTYPE=image/jpeg:https://rielo.org/wp-content/uploads/2025/11/AulaCultura_Noviembre25.jpg
END:VEVENT
END:VCALENDAR